BEGIN:VCALENDAR
VERSION:2.0
PRODID:icalendar-ruby
CALSCALE:GREGORIAN
BEGIN:VEVENT
DTSTAMP:20260423T104308Z
UID:4e2fe616-854e-4f0f-ac55-5a08fd5c9893
DTSTART;VALUE=DATE:20210916
DESCRIPTION:Property ID# 515616\, Locatoin: Harcourts Auction Rooms\, 1 Thi
 rd Avenue\, Tauranga\, Unless Sold Prior\, Time: 11:00AM
SUMMARY:Auction for 
END:VEVENT
END:VCALENDAR
