BEGIN:VCALENDAR
VERSION:2.0
PRODID:icalendar-ruby
CALSCALE:GREGORIAN
BEGIN:VEVENT
DTSTAMP:20260419T190918Z
UID:6b229212-cc39-4cc1-9959-94a574eec803
DTSTART;VALUE=DATE:20210930
DESCRIPTION:Property ID# 516041\, Locatoin: Harcourts Auction Rooms\, 1 Thi
 rd Avenue\, Tauranga\, Unless Sold Prior\, Time: 11:00AM
SUMMARY:Auction for 
END:VEVENT
END:VCALENDAR
