BEGIN:VCALENDAR
VERSION:2.0
PRODID:icalendar-ruby
CALSCALE:GREGORIAN
BEGIN:VEVENT
DTSTAMP:20260421T130710Z
UID:ff7dd316-d55b-4fc9-867e-bd769958e8d9
DTSTART;VALUE=DATE:20211007
DESCRIPTION:Property ID# 516632\, Locatoin: 247 Cameron Road Tauranga\, Tim
 e: 1:00PM
SUMMARY:Auction for 
END:VEVENT
END:VCALENDAR
