BEGIN:VCALENDAR
VERSION:2.0
PRODID:icalendar-ruby
CALSCALE:GREGORIAN
BEGIN:VEVENT
DTSTAMP:20260421T005321Z
UID:fbeb18bb-4960-4a7d-9aea-c6a4297b7387
DTSTART;VALUE=DATE:20211021
DESCRIPTION:Property ID# 517717\, Locatoin: Harcourts Auction Room\, 1 Thir
 d Avenue\, Tauranga\, Time: 12:30PM
SUMMARY:Auction for 
END:VEVENT
END:VCALENDAR
