BEGIN:VCALENDAR
VERSION:2.0
PRODID:icalendar-ruby
CALSCALE:GREGORIAN
BEGIN:VEVENT
DTSTAMP:20260421T005515Z
UID:6d91145d-116f-414d-acaa-019abaa48eea
DTSTART;VALUE=DATE:20211028
DESCRIPTION:Property ID# 518836\, Locatoin: Harcourts\, 1 Third Avenue\, Ta
 uranga\, Time: 12:30PM
SUMMARY:Auction for 
END:VEVENT
END:VCALENDAR
