BEGIN:VCALENDAR
VERSION:2.0
PRODID:icalendar-ruby
CALSCALE:GREGORIAN
BEGIN:VEVENT
DTSTAMP:20260421T132009Z
UID:7c31ce44-8efb-4205-b3e8-02526e6939d2
DTSTART;VALUE=DATE:20211118
DESCRIPTION:Property ID# 520471\, Locatoin: 247 Cameron Road Tauranga\, Tim
 e: 1:00PM
SUMMARY:Auction for 
END:VEVENT
END:VCALENDAR
