BEGIN:VCALENDAR
VERSION:2.0
PRODID:icalendar-ruby
CALSCALE:GREGORIAN
BEGIN:VEVENT
DTSTAMP:20260422T135330Z
UID:c3152596-9d90-43d2-baf2-6449411df2ec
DTSTART;VALUE=DATE:20220217
DESCRIPTION:Property ID# 527121\, Locatoin: Harcourts Auction Room\, 1 Thir
 d Ave (Unless Sold Prior)\, Time: 12:00PM
SUMMARY:Auction for 
END:VEVENT
END:VCALENDAR
