BEGIN:VCALENDAR
VERSION:2.0
PRODID:icalendar-ruby
CALSCALE:GREGORIAN
BEGIN:VEVENT
DTSTAMP:20260421T182103Z
UID:78b0565f-928c-454a-bc09-df86ad3cb0c2
DTSTART;VALUE=DATE:20220407
DESCRIPTION:Property ID# 531581\, Locatoin: 247 Cameron Road\, Tauranga\, T
 ime: 1:00PM
SUMMARY:Auction for 
END:VEVENT
END:VCALENDAR
