BEGIN:VCALENDAR
VERSION:2.0
PRODID:icalendar-ruby
CALSCALE:GREGORIAN
BEGIN:VEVENT
DTSTAMP:20260421T182108Z
UID:8c1fb38f-38d7-418b-bea2-af477a537440
DTSTART;VALUE=DATE:20230330
DESCRIPTION:Property ID# 553888\, Time: 1:00PM
SUMMARY:Auction for 
END:VEVENT
END:VCALENDAR
