BEGIN:VCALENDAR
VERSION:2.0
PRODID:icalendar-ruby
CALSCALE:GREGORIAN
BEGIN:VEVENT
DTSTAMP:20260420T101604Z
UID:b2b00fd8-b70a-490a-aa0a-62b529801dd8
DTSTART;VALUE=DATE:20230615
DESCRIPTION:Property ID# 557453\, Locatoin: Auction rooms\, 247 Cameron Rd\
 , Tauranga \, Time: 1:00PM
SUMMARY:Auction for 
END:VEVENT
END:VCALENDAR
