BEGIN:VCALENDAR
VERSION:2.0
PRODID:icalendar-ruby
CALSCALE:GREGORIAN
BEGIN:VEVENT
DTSTAMP:20260420T111101Z
UID:913034d8-394d-4796-a812-ede392c20640
DTSTART;VALUE=DATE:20230719
DESCRIPTION:Property ID# 558721\, Time: 2:00PM
SUMMARY:Auction for 
END:VEVENT
END:VCALENDAR
