BEGIN:VCALENDAR
VERSION:2.0
PRODID:icalendar-ruby
CALSCALE:GREGORIAN
BEGIN:VEVENT
DTSTAMP:20260421T182614Z
UID:e8c4cf16-82a1-4db0-a04b-83d0e3efccf3
DTSTART;VALUE=DATE:20230829
DESCRIPTION:Property ID# 560070\, Locatoin: EVES Auction Room: 247 Cameron 
 Road\, Tauranga (unless sold prior)	\, Time: 3:00PM
SUMMARY:Auction for 
END:VEVENT
END:VCALENDAR
