BEGIN:VCALENDAR
VERSION:2.0
PRODID:icalendar-ruby
CALSCALE:GREGORIAN
BEGIN:VEVENT
DTSTAMP:20260421T005316Z
UID:c840232e-ab26-4774-a7b8-1ebc5aca6e2f
DTSTART;VALUE=DATE:20231102
DESCRIPTION:Property ID# 563912\, Locatoin: Harcourts Auction Room\, 1 Thir
 d Avenue\, Tauranga\, Time: 11:30AM
SUMMARY:Auction for 
END:VEVENT
END:VCALENDAR
