BEGIN:VCALENDAR
VERSION:2.0
PRODID:icalendar-ruby
CALSCALE:GREGORIAN
BEGIN:VEVENT
DTSTAMP:20260423T203914Z
UID:83f22937-d366-4e0f-b43d-26062fd00b97
DTSTART;VALUE=DATE:20231114
DESCRIPTION:Property ID# 564998\, Locatoin: EVES Auction Room: 247 Cameron 
 Road\, Tauranga (unless sold prior)	\, Time: 4:00PM
SUMMARY:Auction for 
END:VEVENT
END:VCALENDAR
