BEGIN:VCALENDAR
VERSION:2.0
PRODID:icalendar-ruby
CALSCALE:GREGORIAN
BEGIN:VEVENT
DTSTAMP:20260423T203914Z
UID:c2167836-6c98-47d6-97bd-45110ba3b944
DTSTART;VALUE=DATE:20231130
DESCRIPTION:Property ID# 565541\, Locatoin: EVES Auction Room: 247 Cameron 
 Road\, Tauranga (unless sold prior)	\, Time: 1:00PM
SUMMARY:Auction for 
END:VEVENT
END:VCALENDAR
