BEGIN:VCALENDAR
VERSION:2.0
PRODID:icalendar-ruby
CALSCALE:GREGORIAN
BEGIN:VEVENT
DTSTAMP:20260423T204138Z
UID:f816ebd9-0e27-4c65-b2de-d4de103ea6cd
DTSTART;VALUE=DATE:20240321
DESCRIPTION:Property ID# 570222\, Locatoin: 247 Cameron Road\, Tauranga\, T
 ime: 1:00PM
SUMMARY:Auction for 
END:VEVENT
END:VCALENDAR
