BEGIN:VCALENDAR
VERSION:2.0
PRODID:icalendar-ruby
CALSCALE:GREGORIAN
BEGIN:VEVENT
DTSTAMP:20260423T202720Z
UID:1df08f8d-0464-4d27-a3c5-8b0fe6a181cd
DTSTART;VALUE=DATE:20240717
DESCRIPTION:Property ID# 577658\, Locatoin: EVES Auction Room: 247 Cameron 
 Road\, Tauranga (unless sold prior)	\, Time: 1:00PM
SUMMARY:Auction for 
END:VEVENT
END:VCALENDAR
