BEGIN:VCALENDAR
VERSION:2.0
PRODID:icalendar-ruby
CALSCALE:GREGORIAN
BEGIN:VEVENT
DTSTAMP:20260421T095405Z
UID:c58775c3-fc04-485d-8cc5-bbf3562100eb
DTSTART;VALUE=DATE:20241205
DESCRIPTION:Property ID# 584049\, Time: 1:00PM
SUMMARY:Auction for 
END:VEVENT
END:VCALENDAR
