BEGIN:VCALENDAR
VERSION:2.0
PRODID:icalendar-ruby
CALSCALE:GREGORIAN
BEGIN:VEVENT
DTSTAMP:20260421T095400Z
UID:c69ed556-4756-44d9-87d0-45037690f232
DTSTART;VALUE=DATE:20250402
DESCRIPTION:Property ID# 589418\, Locatoin: at 11:30am (unless sold prior) 
 Harcourts Auction Rooms\, 1 Third Avenue\, Tauranga\, Time: 12:00PM
SUMMARY:Auction for 
END:VEVENT
END:VCALENDAR
