BEGIN:VCALENDAR
VERSION:2.0
PRODID:icalendar-ruby
CALSCALE:GREGORIAN
BEGIN:VEVENT
DTSTAMP:20260421T111305Z
UID:361c19bd-59e1-4a7c-8d1d-e204ca8516e9
DTSTART;VALUE=DATE:20250528
DESCRIPTION:Property ID# 592454\, Locatoin: Harcourts Auction Room\, 1 Thir
 d Avenue\, Tauranga\, Time: 11:30AM
SUMMARY:Auction for 
END:VEVENT
END:VCALENDAR
