BEGIN:VCALENDAR
VERSION:2.0
PRODID:icalendar-ruby
CALSCALE:GREGORIAN
BEGIN:VEVENT
DTSTAMP:20260421T095508Z
UID:b6578f94-b340-4a4b-86cf-a8e4b1533a22
DTSTART;VALUE=DATE:20250604
DESCRIPTION:Property ID# 592856\, Time: 12:00PM
SUMMARY:Auction for 
END:VEVENT
END:VCALENDAR
