BEGIN:VCALENDAR
VERSION:2.0
PRODID:icalendar-ruby
CALSCALE:GREGORIAN
BEGIN:VEVENT
DTSTAMP:20260421T095513Z
UID:f5d496f2-45a9-4796-91a0-40048e07a32f
DTSTART;VALUE=DATE:20250611
DESCRIPTION:Property ID# 592997\, Locatoin: Harcourts Auction Rooms\, 1 Thi
 rd Avenue\, Tauranga\, Time: 11:30AM
SUMMARY:Auction for 
END:VEVENT
END:VCALENDAR
