BEGIN:VCALENDAR
VERSION:2.0
PRODID:icalendar-ruby
CALSCALE:GREGORIAN
BEGIN:VEVENT
DTSTAMP:20260421T123216Z
UID:971f10a9-7c0d-42db-96ac-aa1d92df09ca
DTSTART;VALUE=DATE:20250731
DESCRIPTION:Property ID# 594848\, Locatoin: Ray White offices\, Time: 12:00
 PM
SUMMARY:Auction for 
END:VEVENT
END:VCALENDAR
