BEGIN:VCALENDAR
VERSION:2.0
PRODID:icalendar-ruby
CALSCALE:GREGORIAN
BEGIN:VEVENT
DTSTAMP:20260421T005439Z
UID:16f35bff-ae8d-4301-8c71-472b56273e6d
DTSTART;VALUE=DATE:20251210
DESCRIPTION:Property ID# 600314\, Time: 11:30AM
SUMMARY:Auction for 
END:VEVENT
END:VCALENDAR
