BEGIN:VCALENDAR
VERSION:2.0
PRODID:icalendar-ruby
CALSCALE:GREGORIAN
BEGIN:VEVENT
DTSTAMP:20260423T064233Z
UID:c1895a85-3de9-46ee-9d3f-6485d941fb88
DTSTART;VALUE=DATE:20260217
DESCRIPTION:Property ID# 602535\, Time: 12:00PM
SUMMARY:Auction for 
END:VEVENT
END:VCALENDAR
