BEGIN:VCALENDAR
VERSION:2.0
PRODID:icalendar-ruby
CALSCALE:GREGORIAN
BEGIN:VEVENT
DTSTAMP:20260421T005148Z
UID:ebe4a9f8-44d2-429c-a55c-076218febde8
DTSTART;VALUE=DATE:20260422
DESCRIPTION:Property ID# 605850\, Locatoin: Harcourts Auction Rooms\, 1 Thi
 rd Avenue\, Tauranga\, Time: 11:30AM
SUMMARY:Auction for 24 Kanuka Place
END:VEVENT
END:VCALENDAR
