BEGIN:VCALENDAR
VERSION:2.0
PRODID:icalendar-ruby
CALSCALE:GREGORIAN
BEGIN:VEVENT
DTSTAMP:20260421T110320Z
UID:34c62193-1cf2-4046-a7aa-03437d3df90b
DTSTART;VALUE=DATE:20260527
DESCRIPTION:Property ID# 605989\, Locatoin: Harcourts Auction Rooms\, 1 Thi
 rd Avenue\, Tauranga\, Time: 11:30AM
SUMMARY:Auction for 9 Ruahine Street
END:VEVENT
END:VCALENDAR
