BEGIN:VCALENDAR
VERSION:2.0
PRODID:icalendar-ruby
CALSCALE:GREGORIAN
BEGIN:VEVENT
DTSTAMP:20260421T095517Z
UID:cda27c77-1419-46e3-9061-019893775d40
DTSTART;VALUE=DATE:20260514
DESCRIPTION:Property ID# 606570\, Locatoin: Auction Rooms\, 247 Cameron Roa
 d\, Tauranga. Unless sold prior\, Time: 1:00PM
SUMMARY:Auction for 117 Manuwai Drive
END:VEVENT
END:VCALENDAR
