BEGIN:VCALENDAR
VERSION:2.0
PRODID:icalendar-ruby
CALSCALE:GREGORIAN
BEGIN:VEVENT
DTSTAMP:20260421T084301Z
UID:0d4a8eae-349a-490e-88d9-324e8c2b5eb4
DTSTART;TZID=Pacific/Auckland:20260426T123000
DTEND;TZID=Pacific/Auckland:20260426T130000
DESCRIPTION:Property ID# 605976
SUMMARY:Openhome for 30 Mauritius Key
END:VEVENT
END:VCALENDAR
