BEGIN:VCALENDAR
VERSION:2.0
PRODID:icalendar-ruby
CALSCALE:GREGORIAN
BEGIN:VEVENT
DTSTAMP:20260421T212500Z
UID:e881a22f-4391-4e28-ab99-54402c88163f
DTSTART;TZID=Pacific/Auckland:20260426T120000
DTEND;TZID=Pacific/Auckland:20260426T123000
DESCRIPTION:Property ID# 606749
SUMMARY:Openhome for 10B Whitaker Street
END:VEVENT
END:VCALENDAR
