BEGIN:VCALENDAR
VERSION:2.0
PRODID:icalendar-ruby
CALSCALE:GREGORIAN
BEGIN:VEVENT
DTSTAMP:20260421T110317Z
UID:d851e414-4e7b-4c90-b17f-5f34b265458f
DTSTART;TZID=Pacific/Auckland:20260426T120000
DTEND;TZID=Pacific/Auckland:20260426T123000
DESCRIPTION:Property ID# 606264
SUMMARY:Openhome for 48 Hawkridge Heights
END:VEVENT
END:VCALENDAR
