BEGIN:VCALENDAR
VERSION:2.0
PRODID:icalendar-ruby
CALSCALE:GREGORIAN
BEGIN:VEVENT
DTSTAMP:20260423T104214Z
UID:4a20b836-b7bf-4415-a3ff-df13c84fca8a
DTSTART;TZID=Pacific/Auckland:20260426T144500
DTEND;TZID=Pacific/Auckland:20260426T153000
DESCRIPTION:Property ID# 603202
SUMMARY:Openhome for 17 Te Wati Street
END:VEVENT
END:VCALENDAR
