BEGIN:VCALENDAR
VERSION:2.0
PRODID:icalendar-ruby
CALSCALE:GREGORIAN
BEGIN:VEVENT
DTSTAMP:20260423T134926Z
UID:60f6f9ac-bb87-4675-aa7c-b79c45b0f058
DTSTART;TZID=Pacific/Auckland:20260426T111500
DTEND;TZID=Pacific/Auckland:20260426T120000
DESCRIPTION:Property ID# 607050
SUMMARY:Openhome for 10 Evansbel Place
END:VEVENT
END:VCALENDAR
